BEGIN:VCALENDAR
VERSION:2.0
PRODID:-//Vermont South Club - ECPv5.14.0.4//NONSGML v1.0//EN
CALSCALE:GREGORIAN
METHOD:PUBLISH
X-WR-CALNAME:Vermont South Club
X-ORIGINAL-URL:https://vermontsouthclub.com.au
X-WR-CALDESC:Events for Vermont South Club
BEGIN:VTIMEZONE
TZID:Australia/Melbourne
BEGIN:STANDARD
TZOFFSETFROM:+1100
TZOFFSETTO:+1000
TZNAME:AEST
DTSTART:20170401T160000
END:STANDARD
BEGIN:DAYLIGHT
TZOFFSETFROM:+1000
TZOFFSETTO:+1100
TZNAME:AEDT
DTSTART:20170930T160000
END:DAYLIGHT
END:VTIMEZONE
BEGIN:VEVENT
DTSTART;VALUE=DATE:20170408
DTEND;VALUE=DATE:20170409
DTSTAMP:20260424T231756
CREATED:20170302T215413Z
LAST-MODIFIED:20170302T221041Z
UID:2490-1491609600-1491695999@vermontsouthclub.com.au
SUMMARY:KCL Pro-Shot Men's Fours Tournament - 8th April 2017
DESCRIPTION:This is the clubs major event for the year with 32 teams from many metropolitan clubs as well as country teams. The standard of play is division 1 + 2 level and also includes premier division bowlers.\nThe high standard of bowls provides a challenge to all bowlers who enjoy the competition\, camaraderie and appreciate the quality greens. The day consists of 3 games of fours plus two games of 3 bowl pairs. \nThe prize pool totals $2500 comprising: \n\n1st prize:     $1\,400\n2nd prize:  $   600\n3rd prize    $  300\nPlus “Luck Loser” prizes\n\nThe day includes a hot lunch and a BBQ after the game all for the $100 per team entry fee.\nEntries are invited up until the closing date of the 24th of March 2017 unless the field is filled prior to this date.\nIf you need any further information contact Gary Simmons on 0418 343 853 or at gcsimo@netspace.net.au
URL:https://vermontsouthclub.com.au/whats-on/kcl-pro-shot-mens-fours-tournament-8th-april-2017/
LOCATION:Vermont South Bowling Club\, 30 Livingstone Road\, Vermont South\, VIC\, 3133\, Australia
ATTACH;FMTTYPE=image/jpeg:https://vermontsouthclub.com.au/wp-content/uploads/2017/02/KCL-Logo.jpg
END:VEVENT
END:VCALENDAR