BEGIN:VCALENDAR
VERSION:2.0
PRODID:-//Vermont South Club - ECPv5.14.0.4//NONSGML v1.0//EN
CALSCALE:GREGORIAN
METHOD:PUBLISH
X-WR-CALNAME:Vermont South Club
X-ORIGINAL-URL:https://vermontsouthclub.com.au
X-WR-CALDESC:Events for Vermont South Club
BEGIN:VTIMEZONE
TZID:Australia/Melbourne
BEGIN:STANDARD
TZOFFSETFROM:+1100
TZOFFSETTO:+1000
TZNAME:AEST
DTSTART:20240406T160000
END:STANDARD
BEGIN:DAYLIGHT
TZOFFSETFROM:+1000
TZOFFSETTO:+1100
TZNAME:AEDT
DTSTART:20241005T160000
END:DAYLIGHT
END:VTIMEZONE
BEGIN:VEVENT
DTSTART;TZID=Australia/Melbourne:20240407T140000
DTEND;TZID=Australia/Melbourne:20240407T170000
DTSTAMP:20260421T132141
CREATED:20240315T034427Z
LAST-MODIFIED:20240315T034427Z
UID:5010-1712498400-1712509200@vermontsouthclub.com.au
SUMMARY:Bowls Annual General Meeting (AGM)
DESCRIPTION:What a wonderful club VSC is\, and with your contribution it would be great.\nBowls AGM including Reverse Raffle Drawer. \n  \nFormal notices are now on the noticeboard in the clubroom and greenhouse. Nomination\nforms for committee/ sub-committee positions for the 2024/25 year are available along\nwith the nomination box on the bowls table in the tennis clubroom. If you need to discuss\nthe opportunities available\, please do not hesitate to contact any committee member.\nA reminder to please consider nominating for vacant positions on the bowls committee.\nWe are especially looking for people to take on uniform\, joining the greens team and\nassisting the barefoot bowls convenors on Wednesday nights from 4.00 to 6.30 pm or\n6.30 to 8.00 pm.\nPlease put your name down on the list in the greenhouse if you are planning to attend the\nAGM and the ‘thank you’ afternoon tea.\nIf anyone has a matter they want included on the agenda for general business\, this must\nbe received by Di Agius by 22nd March 2024.\nAll bowls members are urged to attend the AGM.\nClick here for Notice of Meeting\nClick here for details of Office Bearer elections
URL:https://vermontsouthclub.com.au/whats-on/bowls-annual-general-meeting-agm/
CATEGORIES:Bowls,Social
ORGANIZER;CN="Vermont%20South%20Bowling%20club":MAILTO:info@vermontsouthclub.com.au
END:VEVENT
END:VCALENDAR