BEGIN:VCALENDAR
VERSION:2.0
PRODID:-//Vermont South Club - ECPv5.14.0.4//NONSGML v1.0//EN
CALSCALE:GREGORIAN
METHOD:PUBLISH
X-WR-CALNAME:Vermont South Club
X-ORIGINAL-URL:https://vermontsouthclub.com.au
X-WR-CALDESC:Events for Vermont South Club
BEGIN:VTIMEZONE
TZID:Australia/Melbourne
BEGIN:STANDARD
TZOFFSETFROM:+1100
TZOFFSETTO:+1000
TZNAME:AEST
DTSTART:20200404T160000
END:STANDARD
BEGIN:DAYLIGHT
TZOFFSETFROM:+1000
TZOFFSETTO:+1100
TZNAME:AEDT
DTSTART:20201003T160000
END:DAYLIGHT
END:VTIMEZONE
BEGIN:VEVENT
DTSTART;TZID=Australia/Melbourne:20200318T183000
DTEND;TZID=Australia/Melbourne:20200318T200000
DTSTAMP:20260425T020346
CREATED:20191229T220439Z
LAST-MODIFIED:20200122T080215Z
UID:3675-1584556200-1584561600@vermontsouthclub.com.au
SUMMARY:Get Your Racquet On Open Court Session
DESCRIPTION:Get Your Racquet On is launching during the 2020 Australian Summer of Tennis. It is an opportunity for adults to come and try\, or to re-discover the joy of tennis with no commitments. We will be hosting “open court” sessions every Wednesday evening over two months\, which are a series of different activities aimed at discovering or re-discovering the joy of tennis. \nYou are invited to come along to one or multiple sessions and enjoy the fun. You do not need to bring any equipment with you (we will provide everything)\, all you need to do is wear comfortable clothes and sneakers. We will be providing a light snack and a drink (alcoholic or soft drink)\, and there will be plenty of time to socialise. \nYou do not need to be a member of the club to join in. Anyone is welcome! \nThe theme for the night is “US Open”. Decorations\, food and drinks will have a distinctly American feel. \nWe will give you an hour’s free court hire for each session you attend. \nPlease use the Tennis Australia booking system to let us know you are coming. Click on the “Website” link in the details below. \nhttps://play.tennis.com.au/opencourtsessions/vermontsouthtennisclub
URL:https://vermontsouthclub.com.au/whats-on/get-your-racquet-on-open-court-session/
LOCATION:Vermont South Tennis Club\, 30a Livingstone Road\, Vermont South\, Vic\, 3133\, Australia
CATEGORIES:Tennis
ORGANIZER;CN="Jess%20O%27Meara":MAILTO:info@wearetennis.com.au
END:VEVENT
END:VCALENDAR